BEGIN:VCALENDAR
VERSION:2.0
PRODID:-//Apollo Simulation Centre - ECPv6.15.13.1//NONSGML v1.0//EN
CALSCALE:GREGORIAN
METHOD:PUBLISH
X-WR-CALNAME:Apollo Simulation Centre
X-ORIGINAL-URL:https://apollosimulation.com
X-WR-CALDESC:Events for Apollo Simulation Centre
REFRESH-INTERVAL;VALUE=DURATION:PT1H
X-Robots-Tag:noindex
X-PUBLISHED-TTL:PT1H
BEGIN:VTIMEZONE
TZID:Asia/Kolkata
BEGIN:STANDARD
TZOFFSETFROM:+0530
TZOFFSETTO:+0530
TZNAME:IST
DTSTART:20250101T000000
END:STANDARD
END:VTIMEZONE
BEGIN:VEVENT
DTSTART;TZID=Asia/Kolkata:20260323T090000
DTEND;TZID=Asia/Kolkata:20260324T170000
DTSTAMP:20260421T194336
CREATED:20260212T121348Z
LAST-MODIFIED:20260212T121348Z
UID:11624-1774256400-1774371600@apollosimulation.com
SUMMARY:IPTTT (Apollo Trauma Course)
DESCRIPTION:
URL:https://apollosimulation.com/event/ipttt-apollo-trauma-course/
LOCATION:Apollo Simulation Centre\, 64\, vanagaram to ambattur\, Yadaval St\, off Poonamallee High Road\, Vanagaram\,\, Chennai\, Tamil Nadu\, 600095\, India
END:VEVENT
BEGIN:VEVENT
DTSTART;TZID=Asia/Kolkata:20260325T090000
DTEND;TZID=Asia/Kolkata:20260327T170000
DTSTAMP:20260421T194336
CREATED:20260212T122036Z
LAST-MODIFIED:20260317T045018Z
UID:11632-1774429200-1774630800@apollosimulation.com
SUMMARY:EMAS - Essential Minimal Access Surgery Course
DESCRIPTION:
URL:https://apollosimulation.com/event/emas-essential-minimal-access-surgery-course/
LOCATION:Apollo Simulation Centre\, 64\, vanagaram to ambattur\, Yadaval St\, off Poonamallee High Road\, Vanagaram\,\, Chennai\, Tamil Nadu\, 600095\, India
END:VEVENT
BEGIN:VEVENT
DTSTART;TZID=Asia/Kolkata:20260326T090000
DTEND;TZID=Asia/Kolkata:20260326T170000
DTSTAMP:20260421T194336
CREATED:20260212T121510Z
LAST-MODIFIED:20260212T121510Z
UID:11626-1774515600-1774544400@apollosimulation.com
SUMMARY:Mechanical Ventilation
DESCRIPTION:
URL:https://apollosimulation.com/event/mechanical-ventilation-3/
LOCATION:Apollo Simulation Centre\, 64\, vanagaram to ambattur\, Yadaval St\, off Poonamallee High Road\, Vanagaram\,\, Chennai\, Tamil Nadu\, 600095\, India
END:VEVENT
BEGIN:VEVENT
DTSTART;TZID=Asia/Kolkata:20260327T080000
DTEND;TZID=Asia/Kolkata:20260327T170000
DTSTAMP:20260421T194336
CREATED:20260212T121559Z
LAST-MODIFIED:20260212T121559Z
UID:11628-1774598400-1774630800@apollosimulation.com
SUMMARY:Advanced Airway Management
DESCRIPTION:
URL:https://apollosimulation.com/event/advanced-airway-management-3/
LOCATION:Apollo Simulation Centre\, 64\, vanagaram to ambattur\, Yadaval St\, off Poonamallee High Road\, Vanagaram\,\, Chennai\, Tamil Nadu\, 600095\, India
END:VEVENT
BEGIN:VEVENT
DTSTART;TZID=Asia/Kolkata:20260328T090000
DTEND;TZID=Asia/Kolkata:20260328T140000
DTSTAMP:20260421T194336
CREATED:20260212T122134Z
LAST-MODIFIED:20260212T122134Z
UID:11634-1774688400-1774706400@apollosimulation.com
SUMMARY:Bronchoscopy Essentials
DESCRIPTION:
URL:https://apollosimulation.com/event/bronchoscopy-essentials/
LOCATION:Apollo Simulation Centre\, 64\, vanagaram to ambattur\, Yadaval St\, off Poonamallee High Road\, Vanagaram\,\, Chennai\, Tamil Nadu\, 600095\, India
END:VEVENT
BEGIN:VEVENT
DTSTART;TZID=Asia/Kolkata:20260328T090000
DTEND;TZID=Asia/Kolkata:20260328T163000
DTSTAMP:20260421T194336
CREATED:20260212T121907Z
LAST-MODIFIED:20260317T045226Z
UID:11630-1774688400-1774715400@apollosimulation.com
SUMMARY:Basic Surgical Skills
DESCRIPTION:
URL:https://apollosimulation.com/event/basic-surgical-skills/
LOCATION:Apollo Simulation Centre\, 64\, vanagaram to ambattur\, Yadaval St\, off Poonamallee High Road\, Vanagaram\,\, Chennai\, Tamil Nadu\, 600095\, India
END:VEVENT
BEGIN:VEVENT
DTSTART;TZID=Asia/Kolkata:20260328T090000
DTEND;TZID=Asia/Kolkata:20260328T170000
DTSTAMP:20260421T194336
CREATED:20260217T083227Z
LAST-MODIFIED:20260217T083227Z
UID:11640-1774688400-1774717200@apollosimulation.com
SUMMARY:Regional Anaesthesia
DESCRIPTION:
URL:https://apollosimulation.com/event/regional-anaesthesia/
LOCATION:Apollo Simulation Centre\, 64\, vanagaram to ambattur\, Yadaval St\, off Poonamallee High Road\, Vanagaram\,\, Chennai\, Tamil Nadu\, 600095\, India
END:VEVENT
BEGIN:VEVENT
DTSTART;TZID=Asia/Kolkata:20260329T090000
DTEND;TZID=Asia/Kolkata:20260329T170000
DTSTAMP:20260421T194336
CREATED:20260317T045555Z
LAST-MODIFIED:20260317T045555Z
UID:11693-1774774800-1774803600@apollosimulation.com
SUMMARY:Echo Essentials
DESCRIPTION:
URL:https://apollosimulation.com/event/echo-essentials-7/
LOCATION:Apollo Simulation Centre\, 64\, vanagaram to ambattur\, Yadaval St\, off Poonamallee High Road\, Vanagaram\,\, Chennai\, Tamil Nadu\, 600095\, India
END:VEVENT
BEGIN:VEVENT
DTSTART;TZID=Asia/Kolkata:20260330T080000
DTEND;TZID=Asia/Kolkata:20260331T170000
DTSTAMP:20260421T194336
CREATED:20260307T095256Z
LAST-MODIFIED:20260307T095256Z
UID:11682-1774857600-1774976400@apollosimulation.com
SUMMARY:AHA BLS (Heartcode) and ACLS Provider course
DESCRIPTION:
URL:https://apollosimulation.com/event/aha-bls-heartcode-and-acls-provider-course/
LOCATION:Apollo Simulation Centre\, 64\, vanagaram to ambattur\, Yadaval St\, off Poonamallee High Road\, Vanagaram\,\, Chennai\, Tamil Nadu\, 600095\, India
END:VEVENT
END:VCALENDAR