BEGIN:VCALENDAR
VERSION:2.0
PRODID:-//Apollo Simulation Centre - ECPv6.15.13.1//NONSGML v1.0//EN
CALSCALE:GREGORIAN
METHOD:PUBLISH
X-ORIGINAL-URL:https://apollosimulation.com
X-WR-CALDESC:Events for Apollo Simulation Centre
REFRESH-INTERVAL;VALUE=DURATION:PT1H
X-Robots-Tag:noindex
X-PUBLISHED-TTL:PT1H
BEGIN:VTIMEZONE
TZID:Asia/Kolkata
BEGIN:STANDARD
TZOFFSETFROM:+0530
TZOFFSETTO:+0530
TZNAME:IST
DTSTART:20250101T000000
END:STANDARD
END:VTIMEZONE
BEGIN:VEVENT
DTSTART;TZID=Asia/Kolkata:20260103T140000
DTEND;TZID=Asia/Kolkata:20260103T170000
DTSTAMP:20260421T223721
CREATED:20251123T120633Z
LAST-MODIFIED:20251217T051441Z
UID:11553-1767448800-1767459600@apollosimulation.com
SUMMARY:Interventional Radiology Exam - Prep
DESCRIPTION:
URL:https://apollosimulation.com/event/interventional-radiology-exam-prep/
LOCATION:Apollo Simulation Centre\, 64\, vanagaram to ambattur\, Yadaval St\, off Poonamallee High Road\, Vanagaram\,\, Chennai\, Tamil Nadu\, 600095\, India
END:VEVENT
BEGIN:VEVENT
DTSTART;TZID=Asia/Kolkata:20260110T090000
DTEND;TZID=Asia/Kolkata:20260110T163000
DTSTAMP:20260421T223721
CREATED:20251218T094435Z
LAST-MODIFIED:20251219T100314Z
UID:11589-1768035600-1768062600@apollosimulation.com
SUMMARY:POCUS
DESCRIPTION:
URL:https://apollosimulation.com/event/pocus-intervention-under-usg-guidance/
LOCATION:Apollo Simulation Centre\, 64\, vanagaram to ambattur\, Yadaval St\, off Poonamallee High Road\, Vanagaram\,\, Chennai\, Tamil Nadu\, 600095\, India
END:VEVENT
BEGIN:VEVENT
DTSTART;TZID=Asia/Kolkata:20260120T090000
DTEND;TZID=Asia/Kolkata:20260120T163000
DTSTAMP:20260421T223721
CREATED:20251218T094735Z
LAST-MODIFIED:20251218T094735Z
UID:11591-1768899600-1768926600@apollosimulation.com
SUMMARY:Mechanical Ventilation
DESCRIPTION:
URL:https://apollosimulation.com/event/mechanical-ventilation-2/
LOCATION:Apollo Simulation Centre\, 64\, vanagaram to ambattur\, Yadaval St\, off Poonamallee High Road\, Vanagaram\,\, Chennai\, Tamil Nadu\, 600095\, India
END:VEVENT
BEGIN:VEVENT
DTSTART;TZID=Asia/Kolkata:20260121T090000
DTEND;TZID=Asia/Kolkata:20260121T163000
DTSTAMP:20260421T223721
CREATED:20251218T095119Z
LAST-MODIFIED:20251218T095119Z
UID:11593-1768986000-1769013000@apollosimulation.com
SUMMARY:Advanced Airway Management
DESCRIPTION:
URL:https://apollosimulation.com/event/advanced-airway-management-2/
LOCATION:Apollo Simulation Centre\, 64\, vanagaram to ambattur\, Yadaval St\, off Poonamallee High Road\, Vanagaram\,\, Chennai\, Tamil Nadu\, 600095\, India
END:VEVENT
BEGIN:VEVENT
DTSTART;TZID=Asia/Kolkata:20260122T090000
DTEND;TZID=Asia/Kolkata:20260123T163000
DTSTAMP:20260421T223721
CREATED:20251218T095330Z
LAST-MODIFIED:20251218T095330Z
UID:11596-1769072400-1769185800@apollosimulation.com
SUMMARY:IPTTT - Interprofessional Trauma Team Training (Apollo Trauma Course)
DESCRIPTION:
URL:https://apollosimulation.com/event/ipttt-interprofessional-trauma-team-training-apollo-trauma-course/
LOCATION:Apollo Simulation Centre\, 64\, vanagaram to ambattur\, Yadaval St\, off Poonamallee High Road\, Vanagaram\,\, Chennai\, Tamil Nadu\, 600095\, India
END:VEVENT
BEGIN:VEVENT
DTSTART;TZID=Asia/Kolkata:20260125T080000
DTEND;TZID=Asia/Kolkata:20260127T170000
DTSTAMP:20260421T223721
CREATED:20251122T123400Z
LAST-MODIFIED:20251122T123510Z
UID:11546-1769328000-1769533200@apollosimulation.com
SUMMARY:ATCN - Advanced Trauma Care for Nurses - Provider Course
DESCRIPTION:
URL:https://apollosimulation.com/event/atcn/
LOCATION:Apollo Simulation Centre\, 64\, vanagaram to ambattur\, Yadaval St\, off Poonamallee High Road\, Vanagaram\,\, Chennai\, Tamil Nadu\, 600095\, India
END:VEVENT
BEGIN:VEVENT
DTSTART;TZID=Asia/Kolkata:20260125T080000
DTEND;TZID=Asia/Kolkata:20260127T170000
DTSTAMP:20260421T223721
CREATED:20251122T123948Z
LAST-MODIFIED:20251122T123948Z
UID:11549-1769328000-1769533200@apollosimulation.com
SUMMARY:ATLS Provider Course
DESCRIPTION:
URL:https://apollosimulation.com/event/atls-provider-course/
LOCATION:Apollo Simulation Centre\, 64\, vanagaram to ambattur\, Yadaval St\, off Poonamallee High Road\, Vanagaram\,\, Chennai\, Tamil Nadu\, 600095\, India
END:VEVENT
BEGIN:VEVENT
DTSTART;TZID=Asia/Kolkata:20260129T080000
DTEND;TZID=Asia/Kolkata:20260131T173000
DTSTAMP:20260421T223721
CREATED:20251122T124852Z
LAST-MODIFIED:20251122T124852Z
UID:11551-1769673600-1769880600@apollosimulation.com
SUMMARY:PASSH Simulation Education Course
DESCRIPTION:
URL:https://apollosimulation.com/event/passh-simulation-education-course/
LOCATION:Apollo Simulation Centre\, 64\, vanagaram to ambattur\, Yadaval St\, off Poonamallee High Road\, Vanagaram\,\, Chennai\, Tamil Nadu\, 600095\, India
END:VEVENT
END:VCALENDAR