BEGIN:VCALENDAR
VERSION:2.0
PRODID:-//Apollo Simulation Centre - ECPv6.15.13.1//NONSGML v1.0//EN
CALSCALE:GREGORIAN
METHOD:PUBLISH
X-ORIGINAL-URL:https://apollosimulation.com
X-WR-CALDESC:Events for Apollo Simulation Centre
REFRESH-INTERVAL;VALUE=DURATION:PT1H
X-Robots-Tag:noindex
X-PUBLISHED-TTL:PT1H
BEGIN:VTIMEZONE
TZID:Asia/Kolkata
BEGIN:STANDARD
TZOFFSETFROM:+0530
TZOFFSETTO:+0530
TZNAME:IST
DTSTART:20240101T000000
END:STANDARD
END:VTIMEZONE
BEGIN:VEVENT
DTSTART;TZID=Asia/Kolkata:20250918T090000
DTEND;TZID=Asia/Kolkata:20250918T170000
DTSTAMP:20260422T035443
CREATED:20250910T074453Z
LAST-MODIFIED:20250910T074628Z
UID:10546-1758186000-1758214800@apollosimulation.com
SUMMARY:RHOC
DESCRIPTION:
URL:https://apollosimulation.com/event/rhoc-bcls/
LOCATION:Apollo Simulation Centre\, 64\, vanagaram to ambattur\, Yadaval St\, off Poonamallee High Road\, Vanagaram\,\, Chennai\, Tamil Nadu\, 600095\, India
END:VEVENT
BEGIN:VEVENT
DTSTART;TZID=Asia/Kolkata:20250919T080000
DTEND;TZID=Asia/Kolkata:20250919T170000
DTSTAMP:20260422T035443
CREATED:20250910T074536Z
LAST-MODIFIED:20250910T074536Z
UID:10549-1758268800-1758301200@apollosimulation.com
SUMMARY:RHOC
DESCRIPTION:
URL:https://apollosimulation.com/event/rhoc-16/
LOCATION:Apollo Simulation Centre\, 64\, vanagaram to ambattur\, Yadaval St\, off Poonamallee High Road\, Vanagaram\,\, Chennai\, Tamil Nadu\, 600095\, India
END:VEVENT
BEGIN:VEVENT
DTSTART;TZID=Asia/Kolkata:20250920T090000
DTEND;TZID=Asia/Kolkata:20250920T170000
DTSTAMP:20260422T035443
CREATED:20250910T074657Z
LAST-MODIFIED:20250910T074657Z
UID:10552-1758358800-1758387600@apollosimulation.com
SUMMARY:RHOC
DESCRIPTION:
URL:https://apollosimulation.com/event/rhoc-17/
LOCATION:Apollo Simulation Centre\, 64\, vanagaram to ambattur\, Yadaval St\, off Poonamallee High Road\, Vanagaram\,\, Chennai\, Tamil Nadu\, 600095\, India
END:VEVENT
END:VCALENDAR