BEGIN:VCALENDAR
VERSION:2.0
PRODID:-//Apollo Simulation Centre - ECPv6.15.13.1//NONSGML v1.0//EN
CALSCALE:GREGORIAN
METHOD:PUBLISH
X-ORIGINAL-URL:https://apollosimulation.com
X-WR-CALDESC:Events for Apollo Simulation Centre
REFRESH-INTERVAL;VALUE=DURATION:PT1H
X-Robots-Tag:noindex
X-PUBLISHED-TTL:PT1H
BEGIN:VTIMEZONE
TZID:Asia/Kolkata
BEGIN:STANDARD
TZOFFSETFROM:+0530
TZOFFSETTO:+0530
TZNAME:IST
DTSTART:20250101T000000
END:STANDARD
END:VTIMEZONE
BEGIN:VEVENT
DTSTART;TZID=Asia/Kolkata:20260422T080000
DTEND;TZID=Asia/Kolkata:20260422T170000
DTSTAMP:20260422T040056
CREATED:20260320T114758Z
LAST-MODIFIED:20260320T114758Z
UID:11720-1776844800-1776877200@apollosimulation.com
SUMMARY:Peripheral Vascular Essentials
DESCRIPTION:
URL:https://apollosimulation.com/event/peripheral-vascular-essentials-4/
LOCATION:Apollo Simulation Centre\, 64\, vanagaram to ambattur\, Yadaval St\, off Poonamallee High Road\, Vanagaram\,\, Chennai\, Tamil Nadu\, 600095\, India
END:VEVENT
BEGIN:VEVENT
DTSTART;TZID=Asia/Kolkata:20260422T080000
DTEND;TZID=Asia/Kolkata:20260424T170000
DTSTAMP:20260422T040056
CREATED:20260320T114644Z
LAST-MODIFIED:20260320T114644Z
UID:11718-1776844800-1777050000@apollosimulation.com
SUMMARY:Essential Minimal Access Surgery (EMAS)
DESCRIPTION:
URL:https://apollosimulation.com/event/essential-minimal-access-surgery-emas/
LOCATION:Apollo Simulation Centre\, 64\, vanagaram to ambattur\, Yadaval St\, off Poonamallee High Road\, Vanagaram\,\, Chennai\, Tamil Nadu\, 600095\, India
END:VEVENT
BEGIN:VEVENT
DTSTART;TZID=Asia/Kolkata:20260425T080000
DTEND;TZID=Asia/Kolkata:20260425T170000
DTSTAMP:20260422T040056
CREATED:20260320T114911Z
LAST-MODIFIED:20260320T114911Z
UID:11722-1777104000-1777136400@apollosimulation.com
SUMMARY:Basic Surgical Skills
DESCRIPTION:
URL:https://apollosimulation.com/event/basic-surgical-skills-2/
LOCATION:Apollo Simulation Centre\, 64\, vanagaram to ambattur\, Yadaval St\, off Poonamallee High Road\, Vanagaram\,\, Chennai\, Tamil Nadu\, 600095\, India
END:VEVENT
BEGIN:VEVENT
DTSTART;TZID=Asia/Kolkata:20260427T080000
DTEND;TZID=Asia/Kolkata:20260428T170000
DTSTAMP:20260422T040056
CREATED:20260320T115331Z
LAST-MODIFIED:20260320T115331Z
UID:11724-1777276800-1777395600@apollosimulation.com
SUMMARY:Resuscitation Boot Camp - Navi Mumbai
DESCRIPTION:
URL:https://apollosimulation.com/event/resuscitation-boot-camp-navi-mumbai/
LOCATION:Apollo Hospitals – Navi Mumbai\, Apollo hospitals Navi Mumbai Parsik Hill Rd sector 23 CBD Belapur Navi\, Navi Mumbai\, Maharashtra\, 400614\, India
END:VEVENT
BEGIN:VEVENT
DTSTART;TZID=Asia/Kolkata:20260514T090000
DTEND;TZID=Asia/Kolkata:20260514T163000
DTSTAMP:20260422T040056
CREATED:20260420T083308Z
LAST-MODIFIED:20260420T083308Z
UID:11750-1778749200-1778776200@apollosimulation.com
SUMMARY:Perioperative Problem Based Learning (POPBL)
DESCRIPTION:
URL:https://apollosimulation.com/event/perioperative-problem-based-learning-popbl-2/
LOCATION:Apollo Simulation Centre\, 64\, vanagaram to ambattur\, Yadaval St\, off Poonamallee High Road\, Vanagaram\,\, Chennai\, Tamil Nadu\, 600095\, India
END:VEVENT
BEGIN:VEVENT
DTSTART;TZID=Asia/Kolkata:20260515T090000
DTEND;TZID=Asia/Kolkata:20260515T163000
DTSTAMP:20260422T040056
CREATED:20260420T081130Z
LAST-MODIFIED:20260420T081130Z
UID:11732-1778835600-1778862600@apollosimulation.com
SUMMARY:Coronary Essentials
DESCRIPTION:
URL:https://apollosimulation.com/event/coronary-essentials-4/
LOCATION:Apollo Simulation Centre\, 64\, vanagaram to ambattur\, Yadaval St\, off Poonamallee High Road\, Vanagaram\,\, Chennai\, Tamil Nadu\, 600095\, India
END:VEVENT
BEGIN:VEVENT
DTSTART;TZID=Asia/Kolkata:20260516T090000
DTEND;TZID=Asia/Kolkata:20260516T163000
DTSTAMP:20260422T040056
CREATED:20260420T081400Z
LAST-MODIFIED:20260420T081400Z
UID:11734-1778922000-1778949000@apollosimulation.com
SUMMARY:Basic and Advanced Echo Essentials
DESCRIPTION:
URL:https://apollosimulation.com/event/basic-and-advanced-echo-essentials/
LOCATION:Apollo Simulation Centre\, 64\, vanagaram to ambattur\, Yadaval St\, off Poonamallee High Road\, Vanagaram\,\, Chennai\, Tamil Nadu\, 600095\, India
END:VEVENT
BEGIN:VEVENT
DTSTART;TZID=Asia/Kolkata:20260517T080000
DTEND;TZID=Asia/Kolkata:20260517T170000
DTSTAMP:20260422T040056
CREATED:20260420T081454Z
LAST-MODIFIED:20260420T081454Z
UID:11736-1779004800-1779037200@apollosimulation.com
SUMMARY:Acute Stroke Intervention
DESCRIPTION:
URL:https://apollosimulation.com/event/acute-stroke-intervention/
LOCATION:Apollo Simulation Centre\, 64\, vanagaram to ambattur\, Yadaval St\, off Poonamallee High Road\, Vanagaram\,\, Chennai\, Tamil Nadu\, 600095\, India
END:VEVENT
BEGIN:VEVENT
DTSTART;TZID=Asia/Kolkata:20260517T090000
DTEND;TZID=Asia/Kolkata:20260517T163000
DTSTAMP:20260422T040056
CREATED:20260420T081746Z
LAST-MODIFIED:20260420T081746Z
UID:11738-1779008400-1779035400@apollosimulation.com
SUMMARY:Transesophageal Echocardiography (TEE)
DESCRIPTION:
URL:https://apollosimulation.com/event/transesophageal-echocardiography-tee/
LOCATION:Apollo Simulation Centre\, 64\, vanagaram to ambattur\, Yadaval St\, off Poonamallee High Road\, Vanagaram\,\, Chennai\, Tamil Nadu\, 600095\, India
END:VEVENT
BEGIN:VEVENT
DTSTART;TZID=Asia/Kolkata:20260518T090000
DTEND;TZID=Asia/Kolkata:20260519T163000
DTSTAMP:20260422T040056
CREATED:20260420T081855Z
LAST-MODIFIED:20260420T081855Z
UID:11740-1779094800-1779208200@apollosimulation.com
SUMMARY:IPTTT - Apollo Trauma Course
DESCRIPTION:
URL:https://apollosimulation.com/event/ipttt-apollo-trauma-course-2/
LOCATION:Apollo Simulation Centre\, 64\, vanagaram to ambattur\, Yadaval St\, off Poonamallee High Road\, Vanagaram\,\, Chennai\, Tamil Nadu\, 600095\, India
END:VEVENT
BEGIN:VEVENT
DTSTART;TZID=Asia/Kolkata:20260520T090000
DTEND;TZID=Asia/Kolkata:20260520T163000
DTSTAMP:20260422T040056
CREATED:20260420T082401Z
LAST-MODIFIED:20260420T082401Z
UID:11742-1779267600-1779294600@apollosimulation.com
SUMMARY:POCUS & Intervention under USG guidance
DESCRIPTION:
URL:https://apollosimulation.com/event/pocus-intervention-under-usg-guidance-2/
LOCATION:Apollo Simulation Centre\, 64\, vanagaram to ambattur\, Yadaval St\, off Poonamallee High Road\, Vanagaram\,\, Chennai\, Tamil Nadu\, 600095\, India
END:VEVENT
BEGIN:VEVENT
DTSTART;TZID=Asia/Kolkata:20260521T090000
DTEND;TZID=Asia/Kolkata:20260521T163000
DTSTAMP:20260422T040056
CREATED:20260420T082509Z
LAST-MODIFIED:20260420T082509Z
UID:11744-1779354000-1779381000@apollosimulation.com
SUMMARY:Advanced Airway Management
DESCRIPTION:
URL:https://apollosimulation.com/event/advanced-airway-management-4/
LOCATION:Apollo Simulation Centre\, 64\, vanagaram to ambattur\, Yadaval St\, off Poonamallee High Road\, Vanagaram\,\, Chennai\, Tamil Nadu\, 600095\, India
END:VEVENT
BEGIN:VEVENT
DTSTART;TZID=Asia/Kolkata:20260522T090000
DTEND;TZID=Asia/Kolkata:20260522T163000
DTSTAMP:20260422T040056
CREATED:20260420T082606Z
LAST-MODIFIED:20260420T082606Z
UID:11746-1779440400-1779467400@apollosimulation.com
SUMMARY:Mechanical Ventilation
DESCRIPTION:
URL:https://apollosimulation.com/event/mechanical-ventilation-4/
LOCATION:Apollo Simulation Centre\, 64\, vanagaram to ambattur\, Yadaval St\, off Poonamallee High Road\, Vanagaram\,\, Chennai\, Tamil Nadu\, 600095\, India
END:VEVENT
BEGIN:VEVENT
DTSTART;TZID=Asia/Kolkata:20260529T080000
DTEND;TZID=Asia/Kolkata:20260531T180000
DTSTAMP:20260422T040056
CREATED:20260420T083032Z
LAST-MODIFIED:20260420T083032Z
UID:11748-1780041600-1780250400@apollosimulation.com
SUMMARY:ATLS Provider Course
DESCRIPTION:
URL:https://apollosimulation.com/event/atls-provider-course-2/
LOCATION:Apollo Simulation Centre\, 64\, vanagaram to ambattur\, Yadaval St\, off Poonamallee High Road\, Vanagaram\,\, Chennai\, Tamil Nadu\, 600095\, India
END:VEVENT
END:VCALENDAR