BEGIN:VCALENDAR
VERSION:2.0
PRODID:-//Apollo Simulation Centre - ECPv6.15.13.1//NONSGML v1.0//EN
CALSCALE:GREGORIAN
METHOD:PUBLISH
X-WR-CALNAME:Apollo Simulation Centre
X-ORIGINAL-URL:https://apollosimulation.com
X-WR-CALDESC:Events for Apollo Simulation Centre
REFRESH-INTERVAL;VALUE=DURATION:PT1H
X-Robots-Tag:noindex
X-PUBLISHED-TTL:PT1H
BEGIN:VTIMEZONE
TZID:Asia/Kolkata
BEGIN:STANDARD
TZOFFSETFROM:+0530
TZOFFSETTO:+0530
TZNAME:IST
DTSTART:20250101T000000
END:STANDARD
END:VTIMEZONE
BEGIN:VEVENT
DTSTART;TZID=Asia/Kolkata:20260420T080000
DTEND;TZID=Asia/Kolkata:20260420T170000
DTSTAMP:20260420T022515
CREATED:20260320T114438Z
LAST-MODIFIED:20260320T114438Z
UID:11716-1776672000-1776704400@apollosimulation.com
SUMMARY:ASCOTT - Obstetric Crisis Training
DESCRIPTION:
URL:https://apollosimulation.com/event/ascott-obstetric-crisis-training/
LOCATION:Apollo Simulation Centre\, 64\, vanagaram to ambattur\, Yadaval St\, off Poonamallee High Road\, Vanagaram\,\, Chennai\, Tamil Nadu\, 600095\, India
END:VEVENT
BEGIN:VEVENT
DTSTART;TZID=Asia/Kolkata:20260420T090000
DTEND;TZID=Asia/Kolkata:20260420T163000
DTSTAMP:20260420T022515
CREATED:20260327T053948Z
LAST-MODIFIED:20260327T053948Z
UID:11727-1776675600-1776702600@apollosimulation.com
SUMMARY:Emergency Point of Care Ultrasound (POCUS) & Intervention under USG Guidance
DESCRIPTION:
URL:https://apollosimulation.com/event/emergency-point-of-care-ultrasound-pocus-intervention-under-usg-guidance/
LOCATION:Apollo Simulation Centre\, 64\, vanagaram to ambattur\, Yadaval St\, off Poonamallee High Road\, Vanagaram\,\, Chennai\, Tamil Nadu\, 600095\, India
END:VEVENT
END:VCALENDAR