BEGIN:VCALENDAR
VERSION:2.0
PRODID:-//Apollo Simulation Centre - ECPv6.15.13.1//NONSGML v1.0//EN
CALSCALE:GREGORIAN
METHOD:PUBLISH
X-WR-CALNAME:Apollo Simulation Centre
X-ORIGINAL-URL:https://apollosimulation.com
X-WR-CALDESC:Events for Apollo Simulation Centre
REFRESH-INTERVAL;VALUE=DURATION:PT1H
X-Robots-Tag:noindex
X-PUBLISHED-TTL:PT1H
BEGIN:VTIMEZONE
TZID:Asia/Kolkata
BEGIN:STANDARD
TZOFFSETFROM:+0530
TZOFFSETTO:+0530
TZNAME:IST
DTSTART:20240101T000000
END:STANDARD
END:VTIMEZONE
BEGIN:VEVENT
DTSTART;TZID=Asia/Kolkata:20251123T090000
DTEND;TZID=Asia/Kolkata:20251123T163000
DTSTAMP:20260422T023613
CREATED:20251029T052701Z
LAST-MODIFIED:20251029T052701Z
UID:11493-1763888400-1763915400@apollosimulation.com
SUMMARY:ECHO Essentials
DESCRIPTION:
URL:https://apollosimulation.com/event/echo-essentials-4/
LOCATION:Apollo Simulation Centre\, 64\, vanagaram to ambattur\, Yadaval St\, off Poonamallee High Road\, Vanagaram\,\, Chennai\, Tamil Nadu\, 600095\, India
END:VEVENT
BEGIN:VEVENT
DTSTART;TZID=Asia/Kolkata:20251123T090000
DTEND;TZID=Asia/Kolkata:20251123T163000
DTSTAMP:20260422T023613
CREATED:20251029T054050Z
LAST-MODIFIED:20251029T054050Z
UID:11495-1763888400-1763915400@apollosimulation.com
SUMMARY:Intervention under USG Guidance
DESCRIPTION:
URL:https://apollosimulation.com/event/intervention-under-usg-guidance-3/
LOCATION:Apollo Simulation Centre\, 64\, vanagaram to ambattur\, Yadaval St\, off Poonamallee High Road\, Vanagaram\,\, Chennai\, Tamil Nadu\, 600095\, India
END:VEVENT
END:VCALENDAR