BEGIN:VCALENDAR
VERSION:2.0
PRODID:-//Apollo Simulation Centre - ECPv6.15.13.1//NONSGML v1.0//EN
CALSCALE:GREGORIAN
METHOD:PUBLISH
X-WR-CALNAME:Apollo Simulation Centre
X-ORIGINAL-URL:https://apollosimulation.com
X-WR-CALDESC:Events for Apollo Simulation Centre
REFRESH-INTERVAL;VALUE=DURATION:PT1H
X-Robots-Tag:noindex
X-PUBLISHED-TTL:PT1H
BEGIN:VTIMEZONE
TZID:Asia/Kolkata
BEGIN:STANDARD
TZOFFSETFROM:+0530
TZOFFSETTO:+0530
TZNAME:IST
DTSTART:20240101T000000
END:STANDARD
END:VTIMEZONE
BEGIN:VEVENT
DTSTART;TZID=Asia/Kolkata:20251007T090000
DTEND;TZID=Asia/Kolkata:20251010T170000
DTSTAMP:20260422T035304
CREATED:20250910T075754Z
LAST-MODIFIED:20250911T112200Z
UID:10562-1759827600-1760115600@apollosimulation.com
SUMMARY:CREW - POCUS\, Interventional under USG Guidance\, Mechanical Ventilation and Communication & Crisis Management
DESCRIPTION:
URL:https://apollosimulation.com/event/crew-4/
LOCATION:Apollo Simulation Centre\, 64\, vanagaram to ambattur\, Yadaval St\, off Poonamallee High Road\, Vanagaram\,\, Chennai\, Tamil Nadu\, 600095\, India
END:VEVENT
END:VCALENDAR