BEGIN:VCALENDAR
VERSION:2.0
PRODID:-//Apollo Simulation Centre - ECPv6.15.20//NONSGML v1.0//EN
CALSCALE:GREGORIAN
METHOD:PUBLISH
X-ORIGINAL-URL:https://apollosimulation.com
X-WR-CALDESC:Events for Apollo Simulation Centre
REFRESH-INTERVAL;VALUE=DURATION:PT1H
X-Robots-Tag:noindex
X-PUBLISHED-TTL:PT1H
BEGIN:VTIMEZONE
TZID:Asia/Kolkata
BEGIN:STANDARD
TZOFFSETFROM:+0530
TZOFFSETTO:+0530
TZNAME:IST
DTSTART:20240101T000000
END:STANDARD
END:VTIMEZONE
BEGIN:VEVENT
DTSTART;TZID=Asia/Kolkata:20250615T090000
DTEND;TZID=Asia/Kolkata:20250615T163000
DTSTAMP:20260423T164812
CREATED:20250528T110516Z
LAST-MODIFIED:20250528T110516Z
UID:10405-1749978000-1750005000@apollosimulation.com
SUMMARY:USG Obstetrics
DESCRIPTION:
URL:https://apollosimulation.com/event/usg-obstetrics-3/
LOCATION:Apollo Simulation Centre\, 64\, vanagaram to ambattur\, Yadaval St\, off Poonamallee High Road\, Vanagaram\,\, Chennai\, Tamil Nadu\, 600095\, India
END:VEVENT
END:VCALENDAR